BEGIN:VCALENDAR
PRODID:-//nuDatenautomaten//framework iCal4j //DE
VERSION:2.0
CALSCALE:GREGORIAN
BEGIN:VTIMEZONE
TZID:Europe/Berlin
LAST-MODIFIED:20260306T231828Z
TZURL:https://www.tzurl.org/zoneinfo/Europe/Berlin
X-LIC-LOCATION:Europe/Berlin
X-PROLEPTIC-TZNAME:LMT
BEGIN:STANDARD
TZNAME:CET
TZOFFSETFROM:+005328
TZOFFSETTO:+0100
DTSTART:18930401T000000
END:STANDARD
BEGIN:DAYLIGHT
TZNAME:CEST
TZOFFSETFROM:+0100
TZOFFSETTO:+0200
DTSTART:19160430T230000
RDATE:19400401T020000
RDATE:19430329T020000
RDATE:19460414T020000
RDATE:19470406T030000
RDATE:19480418T020000
RDATE:19490410T020000
RDATE:19800406T020000
END:DAYLIGHT
BEGIN:STANDARD
TZNAME:CET
TZOFFSETFROM:+0200
TZOFFSETTO:+0100
DTSTART:19161001T010000
RDATE:19421102T030000
RDATE:19431004T030000
RDATE:19441002T030000
RDATE:19451118T030000
RDATE:19461007T030000
END:STANDARD
BEGIN:DAYLIGHT
TZNAME:CEST
TZOFFSETFROM:+0100
TZOFFSETTO:+0200
DTSTART:19170416T020000
RRULE:FREQ=YEARLY;UNTIL=19180415T010000Z;BYMONTH=4;BYDAY=3MO
END:DAYLIGHT
BEGIN:STANDARD
TZNAME:CET
TZOFFSETFROM:+0200
TZOFFSETTO:+0100
DTSTART:19170917T030000
RRULE:FREQ=YEARLY;UNTIL=19180916T010000Z;BYMONTH=9;BYDAY=3MO
END:STANDARD
BEGIN:DAYLIGHT
TZNAME:CEST
TZOFFSETFROM:+0100
TZOFFSETTO:+0200
DTSTART:19440403T020000
RRULE:FREQ=YEARLY;UNTIL=19450402T010000Z;BYMONTH=4;BYDAY=1MO
END:DAYLIGHT
BEGIN:DAYLIGHT
TZNAME:CEMT
TZOFFSETFROM:+0200
TZOFFSETTO:+0300
DTSTART:19450524T020000
RDATE:19470511T030000
END:DAYLIGHT
BEGIN:DAYLIGHT
TZNAME:CEST
TZOFFSETFROM:+0300
TZOFFSETTO:+0200
DTSTART:19450924T030000
RDATE:19470629T030000
END:DAYLIGHT
BEGIN:STANDARD
TZNAME:CET
TZOFFSETFROM:+0100
TZOFFSETTO:+0100
DTSTART:19460101T000000
RDATE:19800101T000000
END:STANDARD
BEGIN:STANDARD
TZNAME:CET
TZOFFSETFROM:+0200
TZOFFSETTO:+0100
DTSTART:19471005T030000
RRULE:FREQ=YEARLY;UNTIL=19491002T010000Z;BYMONTH=10;BYDAY=1SU
END:STANDARD
BEGIN:STANDARD
TZNAME:CET
TZOFFSETFROM:+0200
TZOFFSETTO:+0100
DTSTART:19800928T030000
RRULE:FREQ=YEARLY;UNTIL=19950924T010000Z;BYMONTH=9;BYDAY=-1SU
END:STANDARD
BEGIN:DAYLIGHT
TZNAME:CEST
TZOFFSETFROM:+0100
TZOFFSETTO:+0200
DTSTART:19810329T020000
RRULE:FREQ=YEARLY;BYMONTH=3;BYDAY=-1SU
END:DAYLIGHT
BEGIN:STANDARD
TZNAME:CET
TZOFFSETFROM:+0200
TZOFFSETTO:+0100
DTSTART:19961027T030000
RRULE:FREQ=YEARLY;BYMONTH=10;BYDAY=-1SU
END:STANDARD
END:VTIMEZONE
BEGIN:VEVENT
DTSTAMP:20260420T183708Z
DTSTART;TZID=Europe/Berlin:20251209T185000
DTEND;TZID=Europe/Berlin:20251209T195000
SUMMARY:Kreisoberliga wC Bonner JSG II vs Wölfe Voreifel (82037)
UID:ad3d2ba1-85a8-4ebb-947f-f430f50e4af3
STATUS:CONFIRMED
LAST-MODIFIED:20251216T083345Z
DESCRIPTION:KOL wC\nBegegnungs-Nr: 82037\nHeim: Bonner JSG II\nGast: Wölfe Voreifel\nHalle: Elisabeth-Selbert-Gesamtschule Godesberg (03062)\nAdresse: Elisabeth-Selbert-Allee 50\, 53175 Bonn\n
LOCATION:Elisabeth-Selbert-Gesamtschule Godesberg (03062): Elisabeth-Selbert-Allee 50\, 53175 Bonn
CATEGORIES:Saison 2025/26
END:VEVENT
BEGIN:VEVENT
DTSTAMP:20260420T183708Z
DTSTART;TZID=Europe/Berlin:20251109T171500
DTEND;TZID=Europe/Berlin:20251109T181500
SUMMARY:Kreisoberliga wC Bonner JSG II vs HSG Euskirchen (82030)
UID:7a0476af-7da2-49ed-962d-fdf9a1d25a1a
STATUS:CONFIRMED
LAST-MODIFIED:20251111T062049Z
DESCRIPTION:KOL wC\nBegegnungs-Nr: 82030\nHeim: Bonner JSG II\nGast: HSG Euskirchen\nHalle: Elisabeth-Selbert-Gesamtschule Godesberg (03062)\nAdresse: Elisabeth-Selbert-Allee 50\, 53175 Bonn\n
LOCATION:Elisabeth-Selbert-Gesamtschule Godesberg (03062): Elisabeth-Selbert-Allee 50\, 53175 Bonn
CATEGORIES:Saison 2025/26
END:VEVENT
BEGIN:VEVENT
DTSTAMP:20260420T183708Z
DTSTART;TZID=Europe/Berlin:20250914T173000
DTEND;TZID=Europe/Berlin:20250914T183000
SUMMARY:Kreisoberliga wC Bonner JSG II vs Bonner JSG III (82003)
UID:ae51e6d1-2333-4fcf-86cc-b0f32347c77a
STATUS:CONFIRMED
LAST-MODIFIED:20250917T182009Z
DESCRIPTION:KOL wC\nBegegnungs-Nr: 82003\nHeim: Bonner JSG II\nGast: Bonner JSG III\nHalle: Elisabeth-Selbert-Gesamtschule Godesberg (03062)\nAdresse: Elisabeth-Selbert-Allee 50\, 53175 Bonn\n
LOCATION:Elisabeth-Selbert-Gesamtschule Godesberg (03062): Elisabeth-Selbert-Allee 50\, 53175 Bonn
CATEGORIES:Saison 2025/26
END:VEVENT
BEGIN:VEVENT
DTSTAMP:20260420T183708Z
DTSTART;TZID=Europe/Berlin:20260311T183000
DTEND;TZID=Europe/Berlin:20260311T193000
SUMMARY:Kreisoberliga wC Bonner JSG II vs TuS Niederpleis (82065)
UID:76adf339-b53f-41b9-bebe-61699bdd294e
STATUS:CONFIRMED
LAST-MODIFIED:20260317T085637Z
DESCRIPTION:KOL wC\nBegegnungs-Nr: 82065\nHeim: Bonner JSG II\nGast: TuS Niederpleis\nHalle: Sporthalle St.Augustin-Niederpleis I (03022)\nAdresse: Alte Markt Strasse\, 53757 St.Augustin-Niederpleis\n
LOCATION:Sporthalle St.Augustin-Niederpleis I (03022): Alte Markt Strasse\, 53757 St.Augustin-Niederpleis
CATEGORIES:Saison 2025/26
END:VEVENT
BEGIN:VEVENT
DTSTAMP:20260420T183708Z
DTSTART;TZID=Europe/Berlin:20260117T154500
DTEND;TZID=Europe/Berlin:20260117T164500
SUMMARY:Kreisoberliga wC Bonner JSG II vs HV Erftstadt (82054)
UID:1a6c2c63-ce42-4fc7-ba71-043f2064430d
STATUS:CONFIRMED
LAST-MODIFIED:20260123T170812Z
DESCRIPTION:KOL wC\nBegegnungs-Nr: 82054\nHeim: Bonner JSG II\nGast: HV Erftstadt\nHalle: Sporthalle Beuel-Ost Gesamtschule (03012)\nAdresse: Siegburger Strasse 321\, 53229 Bonn\n
LOCATION:Sporthalle Beuel-Ost Gesamtschule (03012): Siegburger Strasse 321\, 53229 Bonn
CATEGORIES:Saison 2025/26
END:VEVENT
BEGIN:VEVENT
DTSTAMP:20260420T183708Z
DTSTART;TZID=Europe/Berlin:20260208T171500
DTEND;TZID=Europe/Berlin:20260208T181500
SUMMARY:Kreisoberliga wC Bonner JSG II vs HSG Sieg (82070)
UID:4f101ed6-a2c2-4989-af94-7c5b3a5e3063
STATUS:CONFIRMED
LAST-MODIFIED:20260215T111426Z
DESCRIPTION:KOL wC\nBegegnungs-Nr: 82070\nHeim: Bonner JSG II\nGast: HSG Sieg\nHalle: Elisabeth-Selbert-Gesamtschule Godesberg (03062)\nAdresse: Elisabeth-Selbert-Allee 50\, 53175 Bonn\n
LOCATION:Elisabeth-Selbert-Gesamtschule Godesberg (03062): Elisabeth-Selbert-Allee 50\, 53175 Bonn
CATEGORIES:Saison 2025/26
END:VEVENT
BEGIN:VEVENT
DTSTAMP:20260420T183708Z
DTSTART;TZID=Europe/Berlin:20260308T150000
DTEND;TZID=Europe/Berlin:20260308T160000
SUMMARY:Kreisoberliga wC Bonner JSG II vs HSG Siebengebirge-Thomasberg II (82076)
UID:2acbe640-4078-4fd7-ade8-1672d9ce1d24
STATUS:CONFIRMED
LAST-MODIFIED:20260309T200450Z
DESCRIPTION:KOL wC\nBegegnungs-Nr: 82076\nHeim: Bonner JSG II\nGast: HSG Siebengebirge-Thomasberg II\nHalle: Elisabeth-Selbert-Gesamtschule Godesberg (03062)\nAdresse: Elisabeth-Selbert-Allee 50\, 53175 Bonn\n
LOCATION:Elisabeth-Selbert-Gesamtschule Godesberg (03062): Elisabeth-Selbert-Allee 50\, 53175 Bonn
CATEGORIES:Saison 2025/26
END:VEVENT
BEGIN:VEVENT
DTSTAMP:20260420T183708Z
DTSTART;TZID=Europe/Berlin:20260321T150000
DTEND;TZID=Europe/Berlin:20260321T160000
SUMMARY:Kreisoberliga wC Bonner JSG II vs TV Palmersheim (82088)
UID:252918a8-a3ff-4440-8116-5f3fdf661ef2
STATUS:CONFIRMED
LAST-MODIFIED:20260324T141948Z
DESCRIPTION:KOL wC\nBegegnungs-Nr: 82088\nHeim: Bonner JSG II\nGast: TV Palmersheim\nHalle: Bertolt-Brecht-Gesamtschule (03053)\nAdresse: Schlesienstrasse 21-23\, 53119 Bonn\n
LOCATION:Bertolt-Brecht-Gesamtschule (03053): Schlesienstrasse 21-23\, 53119 Bonn
CATEGORIES:Saison 2025/26
END:VEVENT
BEGIN:VEVENT
DTSTAMP:20260420T183708Z
DTSTART;TZID=Europe/Berlin:20250928T144500
DTEND;TZID=Europe/Berlin:20250928T154500
SUMMARY:Kreisoberliga wC Bonner JSG II vs Kaller SC 1922 (82014)
UID:51f4b149-799b-4983-8675-ef0898c5f518
STATUS:CONFIRMED
LAST-MODIFIED:20251007T061339Z
DESCRIPTION:KOL wC\nBegegnungs-Nr: 82014\nHeim: Bonner JSG II\nGast: Kaller SC 1922\nHalle: Sporthalle Tannenbusch (03006)\nAdresse: Hirschberger Strasse\, 53117 Bonn\n
LOCATION:Sporthalle Tannenbusch (03006): Hirschberger Strasse\, 53117 Bonn
CATEGORIES:Saison 2025/26
END:VEVENT
BEGIN:VEVENT
DTSTAMP:20260420T183708Z
DTSTART;TZID=Europe/Berlin:20251129T124500
DTEND;TZID=Europe/Berlin:20251129T134500
SUMMARY:Kreisoberliga wC HSG Siebengebirge-Thomasberg II vs Bonner JSG II (82031)
UID:3f7bb8ad-289c-4370-b599-86e940f8fd68
STATUS:CONFIRMED
LAST-MODIFIED:20251215T070956Z
DESCRIPTION:KOL wC\nBegegnungs-Nr: 82031\nHeim: HSG Siebengebirge-Thomasberg II\nGast: Bonner JSG II\nHalle: Grundschule Oberpleis Sonnenhügel (03054)\nAdresse: Humboldtstrasse 3\, 53639 Königswinter-Oberpleis\n
LOCATION:Grundschule Oberpleis Sonnenhügel (03054): Humboldtstrasse 3\, 53639 Königswinter-Oberpleis
CATEGORIES:Saison 2025/26
END:VEVENT
BEGIN:VEVENT
DTSTAMP:20260420T183708Z
DTSTART;TZID=Europe/Berlin:20260124T153000
DTEND;TZID=Europe/Berlin:20260124T163000
SUMMARY:Kreisoberliga wC Kaller SC 1922 vs Bonner JSG II (82059)
UID:dd92f34f-131b-4082-a1a4-8dd890ee554e
STATUS:CONFIRMED
LAST-MODIFIED:20260128T093308Z
DESCRIPTION:KOL wC\nBegegnungs-Nr: 82059\nHeim: Kaller SC 1922\nGast: Bonner JSG II\nHalle: Grundschule/Sportzentrum Kall (03046)\nAdresse: Auelstrasse\, 53925 Kall\n
LOCATION:Grundschule/Sportzentrum Kall (03046): Auelstrasse\, 53925 Kall
CATEGORIES:Saison 2025/26
END:VEVENT
BEGIN:VEVENT
DTSTAMP:20260420T183708Z
DTSTART;TZID=Europe/Berlin:20260111T140000
DTEND;TZID=Europe/Berlin:20260111T150000
SUMMARY:Kreisoberliga wC Bonner JSG III vs Bonner JSG II (82048)
UID:7c524dd4-c750-46ee-b4b4-c250242c4650
STATUS:CONFIRMED
LAST-MODIFIED:20260112T151742Z
DESCRIPTION:KOL wC\nBegegnungs-Nr: 82048\nHeim: Bonner JSG III\nGast: Bonner JSG II\nHalle: Sporthalle Beuel-Ost Gesamtschule (03012)\nAdresse: Siegburger Strasse 321\, 53229 Bonn\n
LOCATION:Sporthalle Beuel-Ost Gesamtschule (03012): Siegburger Strasse 321\, 53229 Bonn
CATEGORIES:Saison 2025/26
END:VEVENT
BEGIN:VEVENT
DTSTAMP:20260420T183708Z
DTSTART;TZID=Europe/Berlin:20251213T133000
DTEND;TZID=Europe/Berlin:20251213T143000
SUMMARY:Kreisoberliga wC TV Palmersheim vs Bonner JSG II (82043)
UID:4639ee1c-1225-462d-9de0-7612235b45c3
STATUS:CONFIRMED
LAST-MODIFIED:20251215T071859Z
DESCRIPTION:KOL wC\nBegegnungs-Nr: 82043\nHeim: TV Palmersheim\nGast: Bonner JSG II\nHalle: Peter-Weber-Halle Kuchenheim (03039)\nAdresse: Münsterstrasse 22/24\, 53881 Euskirchen\n
LOCATION:Peter-Weber-Halle Kuchenheim (03039): Münsterstrasse 22/24\, 53881 Euskirchen
CATEGORIES:Saison 2025/26
END:VEVENT
BEGIN:VEVENT
DTSTAMP:20260420T183708Z
DTSTART;TZID=Europe/Berlin:20251102T133000
DTEND;TZID=Europe/Berlin:20251102T143000
SUMMARY:Kreisoberliga wC HSG Sieg vs Bonner JSG II (82025)
UID:a634d82c-f865-4e29-b1d5-613c3ed2f3dd
STATUS:CONFIRMED
LAST-MODIFIED:20260206T181642Z
DESCRIPTION:KOL wC\nBegegnungs-Nr: 82025\nHeim: HSG Sieg\nGast: Bonner JSG II\nHalle: Sporthalle Anno Gymnasium (03026)\nAdresse: Seidenbergstrasse\, 53721 Siegburg\n
LOCATION:Sporthalle Anno Gymnasium (03026): Seidenbergstrasse\, 53721 Siegburg
CATEGORIES:Saison 2025/26
END:VEVENT
BEGIN:VEVENT
DTSTAMP:20260420T183708Z
DTSTART;TZID=Europe/Berlin:20251005T173000
DTEND;TZID=Europe/Berlin:20251005T183000
SUMMARY:Kreisoberliga wC TuS Niederpleis vs Bonner JSG II (82020)
UID:0e7cdeea-a0d6-4fe7-8faa-350c1256552f
STATUS:CONFIRMED
LAST-MODIFIED:20251007T061958Z
DESCRIPTION:KOL wC\nBegegnungs-Nr: 82020\nHeim: TuS Niederpleis\nGast: Bonner JSG II\nHalle: Rhein-Sieg-Gymnasium (03019)\nAdresse: Rathausallee\, 53757 St.Augustin\n
LOCATION:Rhein-Sieg-Gymnasium (03019): Rathausallee\, 53757 St.Augustin
CATEGORIES:Saison 2025/26
END:VEVENT
BEGIN:VEVENT
DTSTAMP:20260420T183708Z
DTSTART;TZID=Europe/Berlin:20260314T153000
DTEND;TZID=Europe/Berlin:20260314T163000
SUMMARY:Kreisoberliga wC Wölfe Voreifel vs Bonner JSG II (82082)
UID:b851c700-abe3-439a-91b1-3272757f90dd
STATUS:CONFIRMED
LAST-MODIFIED:20260317T090006Z
DESCRIPTION:KOL wC\nBegegnungs-Nr: 82082\nHeim: Wölfe Voreifel\nGast: Bonner JSG II\nHalle: Sporthalle Gymnasium St. Joseph (03076)\nAdresse: Stadtpark 31\, 53359 Rheinbach\n
LOCATION:Sporthalle Gymnasium St. Joseph (03076): Stadtpark 31\, 53359 Rheinbach
CATEGORIES:Saison 2025/26
END:VEVENT
BEGIN:VEVENT
DTSTAMP:20260420T183708Z
DTSTART;TZID=Europe/Berlin:20260222T153000
DTEND;TZID=Europe/Berlin:20260222T163000
SUMMARY:Kreisoberliga wC HSG Euskirchen vs Bonner JSG II (82075)
UID:dd147808-c409-4043-af1b-e9a57fd24ca1
STATUS:CONFIRMED
LAST-MODIFIED:20260302T194251Z
DESCRIPTION:KOL wC\nBegegnungs-Nr: 82075\nHeim: HSG Euskirchen\nGast: Bonner JSG II\nHalle: Peter-Weber-Halle Kuchenheim (03039)\nAdresse: Münsterstrasse 22/24\, 53881 Euskirchen\n
LOCATION:Peter-Weber-Halle Kuchenheim (03039): Münsterstrasse 22/24\, 53881 Euskirchen
CATEGORIES:Saison 2025/26
END:VEVENT
BEGIN:VEVENT
DTSTAMP:20260420T183708Z
DTSTART;TZID=Europe/Berlin:20250920T150000
DTEND;TZID=Europe/Berlin:20250920T160000
SUMMARY:Kreisoberliga wC HV Erftstadt vs Bonner JSG II (82009)
UID:5912142e-dd40-4dce-960b-24c054acf15a
STATUS:CONFIRMED
LAST-MODIFIED:20250923T093924Z
DESCRIPTION:KOL wC\nBegegnungs-Nr: 82009\nHeim: HV Erftstadt\nGast: Bonner JSG II\nHalle: Rotbachhalle (03001)\nAdresse: Kölner Ring\, 50374 Erftstadt-Lechenich\n
LOCATION:Rotbachhalle (03001): Kölner Ring\, 50374 Erftstadt-Lechenich
CATEGORIES:Saison 2025/26
END:VEVENT
END:VCALENDAR
